BEGIN:VCALENDAR
VERSION:2.0
PRODID:-//wp-events-plugin.com//7.2.3.1//EN
BEGIN:VEVENT
UID:101@bytheway.fr
DTSTART:20261007T090000Z
DTEND:20261010T180000Z
DTSTAMP:20260424T115431Z
URL:https://www.bytheway.fr/events/les-assises-de-la-cybersecurite-avec-ma
 nageengine/
SUMMARY:Les Assises de la cybersécurité avec ManageEngine
DESCRIPTION:Les Assises de la cybersécurité\navec ManageEngine \n        
                                                                            
                   				\n					FORUM				\n		📅 Du 07 au 10 Octobre
 2026 📍Forum Grimaldi à Monaco		\n					BY THE WAY représente
 ManageEngine à la 26e édition des Assises de la
 cybersécurité.				\n		Découvrez les enjeux majeurs de la cybersécurité
 lors des Assises de la Cybersécurité à Monaco et explorez les solutions
 adaptées à vos défis IT.Échangez avec nos experts BY THE WAY et notre
 partenaire certifié ManageEngine\, dans ce cadre unique réunissant une
 communauté d’experts engagés. 		\n					\n									Demande de
 participation\n					\n					Prenez RDV avec notre équipe :				\n					Les
 Assises en quelques chiffres : 				\n									\n							12
 000						\n					\n									\n						rendez-vous One to
 One					\n									\n							3349						\n					\n									\n						participant
 s					\n									\n							1462						\n					\n									\n						invité.e.s		
 			\n									\n							180						\n					\n									\n						sociétés
 partenaires					\n									\n							93						\n					\n									\n						journ
 alistes et experts					\n		source : À propos des
 Assises 		\n					Décideurs IT &amp\; cybersécurité : ne manquez pas les
 Assises ! 				\n		Les Assises réunissent des décideurs porteurs de
 projets : DSI\, RSSI\, Directeurs Techniques\, responsables
 infrastructures\, réseaux et télécoms\, Risk managers…  et les
 fournisseurs de solutions les plus innovants du marché de la
 cybersécurité\, favorisant ainsi des échanges à forte valeur
 ajoutée. 		\n					Pourquoi participer ? 				\n		Rencontrez les acteurs
 clés du marchéÉchangez avec les meilleurs fournisseurs de solutions
 cybersécurité et des décideurs porteurs de projets.Accélérez vos
 projets businessProfitez de rendez-vous One-to-One préprogrammés pour
 concrétiser rapidement vos enjeux IT.Bénéficiez de contenus à forte
 valeur ajoutéeConférences\, retours d’expérience et expertises pour
 challenger vos stratégies et anticiper les menaces.Échangez entre
 pairsPartagez vos problématiques avec d’autres décideurs (RSSI\,
 DSI…) dans un cadre privilégié.Vivez une expérience complèteUn format
 unique combinant business\, inspiration et networking pour favoriser la
 prise de décision.
CATEGORIES:Évènement
LOCATION:Forum Grimaldi\, 10 avenue Princesse Grace MC \, Monaco\, 98000\,
 Monaco
X-APPLE-STRUCTURED-LOCATION;VALUE=URI;X-ADDRESS=10 avenue Princesse Grace
 MC \, Monaco\, 98000\, Monaco;X-APPLE-RADIUS=100;X-TITLE=Forum
 Grimaldi:geo:0,0
END:VEVENT
END:VCALENDAR